BEGIN:VCALENDAR
VERSION:2.0
PRODID:-//Clitheroe Royal Grammar School - ECPv6.15.20//NONSGML v1.0//EN
CALSCALE:GREGORIAN
METHOD:PUBLISH
X-ORIGINAL-URL:https://crgs.org.uk
X-WR-CALDESC:Events for Clitheroe Royal Grammar School
REFRESH-INTERVAL;VALUE=DURATION:PT1H
X-Robots-Tag:noindex
X-PUBLISHED-TTL:PT1H
BEGIN:VTIMEZONE
TZID:UTC
BEGIN:STANDARD
TZOFFSETFROM:+0000
TZOFFSETTO:+0000
TZNAME:UTC
DTSTART:20250101T000000
END:STANDARD
END:VTIMEZONE
BEGIN:VEVENT
DTSTART;VALUE=DATE:20260618
DTEND;VALUE=DATE:20260619
DTSTAMP:20260425T004735
CREATED:20250910T131110Z
LAST-MODIFIED:20251201T091738Z
UID:17742-1781740800-1781827199@crgs.org.uk
SUMMARY:Year 11 Prom
DESCRIPTION:
URL:https://crgs.org.uk/event/year-11-prom-5/
END:VEVENT
BEGIN:VEVENT
DTSTART;VALUE=DATE:20260629
DTEND;VALUE=DATE:20260630
DTSTAMP:20260425T004735
CREATED:20250910T131213Z
LAST-MODIFIED:20251201T091702Z
UID:17744-1782691200-1782777599@crgs.org.uk
SUMMARY:Year 7 Personal Development Day
DESCRIPTION:
URL:https://crgs.org.uk/event/year-7-personal-development-day-2/
END:VEVENT
BEGIN:VEVENT
DTSTART;VALUE=DATE:20260630
DTEND;VALUE=DATE:20260701
DTSTAMP:20260425T004735
CREATED:20250910T131246Z
LAST-MODIFIED:20251201T091638Z
UID:17746-1782777600-1782863999@crgs.org.uk
SUMMARY:Year 12 EPR Conference
DESCRIPTION:
URL:https://crgs.org.uk/event/year-12-epr-conference-5/
END:VEVENT
END:VCALENDAR